BEGIN:VCALENDAR
VERSION:2.0
PRODID: -//Q4 Inc.//EN
METHOD:PUBLISH
BEGIN:VTIMEZONE
TZID:America/New_York
X-LIC-LOCATION:America/New_York
BEGIN:DAYLIGHT
TZOFFSETFROM:-0500
TZOFFSETTO:-0400
TZNAME:EDT
DTSTART:19700308T020000
RRULE:FREQ=YEARLY;BYMONTH=3;BYDAY=2SU
END:DAYLIGHT
BEGIN:STANDARD
TZOFFSETFROM:-0400
TZOFFSETTO:-0500
TZNAME:EST
DTSTART:19701101T020000
RRULE:FREQ=YEARLY;BYMONTH=11;BYDAY=1SU
END:STANDARD
END:VTIMEZONE
BEGIN:VEVENT
ORGANIZER:MAILTO:no-reply@q4inc.com
DTSTART;TZID="America/New_York":20230202T163000
DTEND;TZID="America/New_York":20230202T173000
LOCATION:
UID:08eff156-7e98-46c9-aea4-47d24b706c22
DTSTAMP:20260424T075436
SUMMARY:Fourth Quarter & Full Year 2022 Gilead Sciences Earnings Conference Call
DESCRIPTION: View More Information: https://investors.gilead.com/events-and-presentations/events/event-details/2023/Fourth-Quarter--Full-Year-2022-Gilead-Sciences-Earnings-Conference-Call/default.aspx
URL;VALUE=URI:https://investors.gilead.com/events-and-presentations/events/event-details/2023/Fourth-Quarter--Full-Year-2022-Gilead-Sciences-Earnings-Conference-Call/default.aspx
PRIORITY:5
CLASS:PUBLIC
END:VEVENT
END:VCALENDAR
